BEGIN:VCALENDAR
VERSION:2.0
PRODID:-//Sophrologie By Elodie Formica - ECPv6.15.16//NONSGML v1.0//EN
CALSCALE:GREGORIAN
METHOD:PUBLISH
X-ORIGINAL-URL:https://elodieformica-sophrologue.fr
X-WR-CALDESC:Évènements pour Sophrologie By Elodie Formica
REFRESH-INTERVAL;VALUE=DURATION:PT1H
X-Robots-Tag:noindex
X-PUBLISHED-TTL:PT1H
BEGIN:VTIMEZONE
TZID:Europe/Paris
BEGIN:DAYLIGHT
TZOFFSETFROM:+0100
TZOFFSETTO:+0200
TZNAME:CEST
DTSTART:20190331T010000
END:DAYLIGHT
BEGIN:STANDARD
TZOFFSETFROM:+0200
TZOFFSETTO:+0100
TZNAME:CET
DTSTART:20191027T010000
END:STANDARD
BEGIN:DAYLIGHT
TZOFFSETFROM:+0100
TZOFFSETTO:+0200
TZNAME:CEST
DTSTART:20200329T010000
END:DAYLIGHT
BEGIN:STANDARD
TZOFFSETFROM:+0200
TZOFFSETTO:+0100
TZNAME:CET
DTSTART:20201025T010000
END:STANDARD
BEGIN:DAYLIGHT
TZOFFSETFROM:+0100
TZOFFSETTO:+0200
TZNAME:CEST
DTSTART:20210328T010000
END:DAYLIGHT
BEGIN:STANDARD
TZOFFSETFROM:+0200
TZOFFSETTO:+0100
TZNAME:CET
DTSTART:20211031T010000
END:STANDARD
END:VTIMEZONE
BEGIN:VEVENT
DTSTART;TZID=Europe/Paris:20200318T183000
DTEND;TZID=Europe/Paris:20200318T200000
DTSTAMP:20260425T233037
CREATED:20200304T204342Z
LAST-MODIFIED:20200304T204855Z
UID:772-1584556200-1584561600@elodieformica-sophrologue.fr
SUMMARY:Initiation à la sophrologie "Laisser se déployer l'élan vital"
DESCRIPTION:L’IPC s’inscrit dans une démarche préventive de santé globale. \nIl propose régulièrement des soirées à thème les mercredi soir de 18h30 à 20h\, et certains vendredi\, ainsi qu’une à deux journée par trimestre. \nL’objectif est de faire bénéficier à l’ensemble de la population des connaissances médicales\, paramédicales et psychologiques actuelles sur des thématiques qui lui importent. \nCet événement gratuit sera réservé à la découverte de la sophrologie avec une invitation à se relier au vivant en nous. \nRéservation par billetterie obligatoire.
URL:https://elodieformica-sophrologue.fr/evenements/initiation-a-la-sophrologie-laisser-se-deployer-lelan-vital/
CATEGORIES:Séance découverte sophrologie
ATTACH;FMTTYPE=image/jpeg:https://elodieformica-sophrologue.fr/wp-content/uploads/2018/11/jake-roxen-196170-unsplash.jpg
ORGANIZER;CN="Elodie FORMICA":MAILTO:info@elodieformica-sophrologue.fr
END:VEVENT
BEGIN:VEVENT
DTSTART;TZID=Europe/Paris:20200327T183000
DTEND;TZID=Europe/Paris:20200327T200000
DTSTAMP:20260425T233037
CREATED:20200304T210010Z
LAST-MODIFIED:20200304T210010Z
UID:776-1585333800-1585339200@elodieformica-sophrologue.fr
SUMMARY:Initiation à la sophrologie "Sentir son corps vivant et ses ressources"
DESCRIPTION:L’IPC s’inscrit dans une démarche préventive de santé globale. \nIl propose régulièrement des soirées à thème les mercredi soir de 18h30 à 20h\, et certains vendredi\, ainsi qu’une à deux journée par trimestre. \nL’objectif est de faire bénéficier à l’ensemble de la population des connaissances médicales\, paramédicales et psychologiques actuelles sur des thématiques qui lui importent. \nCet événement gratuit sera réservé à la découverte de la sophrologie avec une invitation à revenir au sensations corporelles. \nRéservation par billetterie obligatoire.
URL:https://elodieformica-sophrologue.fr/evenements/initiation-a-la-sophrologie-sentir-son-corps-vivant-et-ses-ressources/
CATEGORIES:Séance découverte sophrologie
ATTACH;FMTTYPE=image/jpeg:https://elodieformica-sophrologue.fr/wp-content/uploads/2018/10/philipp-m-552545-unsplash.jpg
ORGANIZER;CN="Elodie FORMICA":MAILTO:info@elodieformica-sophrologue.fr
END:VEVENT
END:VCALENDAR