BEGIN:VCALENDAR
VERSION:2.0
PRODID:-//Sophrologie By Elodie Formica - ECPv6.15.16//NONSGML v1.0//EN
CALSCALE:GREGORIAN
METHOD:PUBLISH
X-WR-CALNAME:Sophrologie By Elodie Formica
X-ORIGINAL-URL:https://elodieformica-sophrologue.fr
X-WR-CALDESC:Évènements pour Sophrologie By Elodie Formica
REFRESH-INTERVAL;VALUE=DURATION:PT1H
X-Robots-Tag:noindex
X-PUBLISHED-TTL:PT1H
BEGIN:VTIMEZONE
TZID:Europe/Paris
BEGIN:DAYLIGHT
TZOFFSETFROM:+0100
TZOFFSETTO:+0200
TZNAME:CEST
DTSTART:20200329T010000
END:DAYLIGHT
BEGIN:STANDARD
TZOFFSETFROM:+0200
TZOFFSETTO:+0100
TZNAME:CET
DTSTART:20201025T010000
END:STANDARD
BEGIN:DAYLIGHT
TZOFFSETFROM:+0100
TZOFFSETTO:+0200
TZNAME:CEST
DTSTART:20210328T010000
END:DAYLIGHT
BEGIN:STANDARD
TZOFFSETFROM:+0200
TZOFFSETTO:+0100
TZNAME:CET
DTSTART:20211031T010000
END:STANDARD
BEGIN:DAYLIGHT
TZOFFSETFROM:+0100
TZOFFSETTO:+0200
TZNAME:CEST
DTSTART:20220327T010000
END:DAYLIGHT
BEGIN:STANDARD
TZOFFSETFROM:+0200
TZOFFSETTO:+0100
TZNAME:CET
DTSTART:20221030T010000
END:STANDARD
BEGIN:DAYLIGHT
TZOFFSETFROM:+0100
TZOFFSETTO:+0200
TZNAME:CEST
DTSTART:20230326T010000
END:DAYLIGHT
BEGIN:STANDARD
TZOFFSETFROM:+0200
TZOFFSETTO:+0100
TZNAME:CET
DTSTART:20231029T010000
END:STANDARD
BEGIN:DAYLIGHT
TZOFFSETFROM:+0100
TZOFFSETTO:+0200
TZNAME:CEST
DTSTART:20240331T010000
END:DAYLIGHT
BEGIN:STANDARD
TZOFFSETFROM:+0200
TZOFFSETTO:+0100
TZNAME:CET
DTSTART:20241027T010000
END:STANDARD
BEGIN:DAYLIGHT
TZOFFSETFROM:+0100
TZOFFSETTO:+0200
TZNAME:CEST
DTSTART:20250330T010000
END:DAYLIGHT
BEGIN:STANDARD
TZOFFSETFROM:+0200
TZOFFSETTO:+0100
TZNAME:CET
DTSTART:20251026T010000
END:STANDARD
BEGIN:DAYLIGHT
TZOFFSETFROM:+0100
TZOFFSETTO:+0200
TZNAME:CEST
DTSTART:20260329T010000
END:DAYLIGHT
BEGIN:STANDARD
TZOFFSETFROM:+0200
TZOFFSETTO:+0100
TZNAME:CET
DTSTART:20261025T010000
END:STANDARD
BEGIN:DAYLIGHT
TZOFFSETFROM:+0100
TZOFFSETTO:+0200
TZNAME:CEST
DTSTART:20270328T010000
END:DAYLIGHT
BEGIN:STANDARD
TZOFFSETFROM:+0200
TZOFFSETTO:+0100
TZNAME:CET
DTSTART:20271031T010000
END:STANDARD
BEGIN:DAYLIGHT
TZOFFSETFROM:+0100
TZOFFSETTO:+0200
TZNAME:CEST
DTSTART:20280326T010000
END:DAYLIGHT
BEGIN:STANDARD
TZOFFSETFROM:+0200
TZOFFSETTO:+0100
TZNAME:CET
DTSTART:20281029T010000
END:STANDARD
BEGIN:DAYLIGHT
TZOFFSETFROM:+0100
TZOFFSETTO:+0200
TZNAME:CEST
DTSTART:20290325T010000
END:DAYLIGHT
BEGIN:STANDARD
TZOFFSETFROM:+0200
TZOFFSETTO:+0100
TZNAME:CET
DTSTART:20291028T010000
END:STANDARD
BEGIN:DAYLIGHT
TZOFFSETFROM:+0100
TZOFFSETTO:+0200
TZNAME:CEST
DTSTART:20300331T010000
END:DAYLIGHT
BEGIN:STANDARD
TZOFFSETFROM:+0200
TZOFFSETTO:+0100
TZNAME:CET
DTSTART:20301027T010000
END:STANDARD
BEGIN:DAYLIGHT
TZOFFSETFROM:+0100
TZOFFSETTO:+0200
TZNAME:CEST
DTSTART:20310330T010000
END:DAYLIGHT
BEGIN:STANDARD
TZOFFSETFROM:+0200
TZOFFSETTO:+0100
TZNAME:CET
DTSTART:20311026T010000
END:STANDARD
END:VTIMEZONE
BEGIN:VEVENT
DTSTART;TZID=Europe/Paris:20211003T090000
DTEND;TZID=Europe/Paris:20300105T200000
DTSTAMP:20260425T131648
CREATED:20211003T155618Z
LAST-MODIFIED:20240516T105407Z
UID:799-1633251600-1893873600@elodieformica-sophrologue.fr
SUMMARY:Séance découverte en sophrologie à 25€
DESCRIPTION:Votre premier RDV en individuel accessible à 25€. Nous pouvons parfaitement le mettre en place en cabinet ou en distanciel. \nCela peut vous permettre de découvrir cette pratique\, de faire connaissance avec moi et de vérifier l’adéquation avec votre demande. \nEnsuite\, à partir de mon expérience et de vos besoins\, nous établirons conjointement votre accompagnement : nombre de séance\, groupe et/ou individuel\, fréquence. \nVenez comme vous êtes faire l’expérience de la sophrologie\, je serai heureuse de ce partage\, contactez moi au 06 62 56 77 20.
URL:https://elodieformica-sophrologue.fr/evenements/seance-decouverte-en-sophrologie-offerte/
LOCATION:5 avenue des Ribas 13770 Venelles
CATEGORIES:Séance découverte sophrologie
ATTACH;FMTTYPE=image/jpeg:https://elodieformica-sophrologue.fr/wp-content/uploads/2018/10/artem-bali-777922-unsplash.jpg
ORGANIZER;CN="Elodie FORMICA":MAILTO:info@elodieformica-sophrologue.fr
END:VEVENT
BEGIN:VEVENT
DTSTART;TZID=Europe/Paris:20211004T190000
DTEND;TZID=Europe/Paris:20211004T203000
DTSTAMP:20260425T131648
CREATED:20211001T091308Z
LAST-MODIFIED:20211003T161157Z
UID:782-1633374000-1633379400@elodieformica-sophrologue.fr
SUMMARY:Groupe de sophrologie mensuel dédié au retour à soi et à nos ressources intérieures : EN VISIO (Zoom) ET PRESENTIEL (à Eguilles)
DESCRIPTION:4 octobre : Sentir son corps vivant et ses ressources \n18 octobre : Développer en douceur son élan vital \n15 novembre : Laisser son écologie intérieure se déployer \n13 décembre : Se détendre dans l’action \n10 janvier : S’ouvrir aux possibles \n21 février : Trouver son équilibre Corps Cœur Conscience \n14 mars : Réactualiser librement ses valeurs \n25 avril : Écouter son intuition\, sentir ce qui fait sens pour soi \n16 mai : S’accueillir pleinement \n13 juin : Gagner un regard neuf sur soi et la vie \n  \nLors de chaque séance\, nous activerons : \nLa Présence \nLa sophrologie nous ramène à la présence\, à cette qualité d’être authentique. Elle nous invite à nous accueillir pleinement et à revenir à l’instant présent. \nL’Équilibre \nLa sophrologie recherche l’équilibre entre notre corps et notre esprit car développer notre sensorialité corporelle aide notre mental à se mettre au repos. C’est une façon de faire une pause\, prendre un peu de recul\, être juste ici et maintenant. Nous déployons alors écologie intérieure et somatisation positive. \nLa Créativité \nDans cet espace neuf\, ouvert aux possibles\, nous sommes en capacité de créer notre avenir souhaitable. En toute Liberté\, première valeur en sophrologie\, nous choisissons d’accomplir tel ou tel projet\, de réaliser tel ou tel rêve. Nous pouvons envisager l’avenir avec enthousiasme. \nHoraires : Les cours ont lieu un lundi par mois de 19h00 à 20h30 \nTarif : 18€ par soirée \n Élodie Formica 06 62 56 77 20
URL:https://elodieformica-sophrologue.fr/evenements/groupe-de-sophrologie-mensuel-dedie-au-retour-a-soi-et-a-nos-ressources-interieures-en-visio-zoom-et-presentiel-a-eguilles/
CATEGORIES:Ateliers sophrologie
ATTACH;FMTTYPE=image/jpeg:https://elodieformica-sophrologue.fr/wp-content/uploads/2021/10/FB_IMG_1619438519090.jpg
END:VEVENT
END:VCALENDAR